BEGIN:VCALENDAR
VERSION:2.0
CALSCALE:GREGORIAN
PRODID:-//Diputació de Barcelona//DibaCMS//EN
BEGIN:VEVENT
UID:2429
DTSTAMP:20260426T034028
DTSTART:20260122T110000
DTEND:20260122T120000
SUMMARY:Repic de campanes - Ofici Solemne
LOCATION:
METHOD:PUBLISH
X-WR-CALNAME:malla@diba.cat
X-WR-TIMEZONE:Europe/Madrid
DESCRIPTION:A l’església parroquial de Sant Vicenç de Malla

A la sortida hi haurà la tradicional rifa i un petit mos

URI:https://www.malla-osona.cat/actualitat/agenda/repic-de-campanes-ofici-solemne.html
CLASS:PUBLIC
END:VEVENT
END:VCALENDAR
