BEGIN:VCALENDAR
VERSION:2.0
CALSCALE:GREGORIAN
PRODID:-//Diputació de Barcelona//DibaCMS//EN
BEGIN:VEVENT
UID:2421
DTSTAMP:20260426T024828
DTSTART:20261204T173000
DTEND:20261204T183000
SUMMARY:Bibliobús
LOCATION:
METHOD:PUBLISH
X-WR-CALNAME:malla@diba.cat
X-WR-TIMEZONE:Europe/Madrid
DESCRIPTION:Parada del bibliobús

URI:https://www.malla-osona.cat/actualitat/agenda/2421-bibliobus.html
CLASS:PUBLIC
END:VEVENT
END:VCALENDAR
